BEGIN:VCALENDAR
VERSION:2.0
PRODID:-//Beis Medrash Ahavas Shalom - ECPv6.15.20//NONSGML v1.0//EN
CALSCALE:GREGORIAN
METHOD:PUBLISH
X-ORIGINAL-URL:https://ahavasshalom.org
X-WR-CALDESC:Events for Beis Medrash Ahavas Shalom
REFRESH-INTERVAL;VALUE=DURATION:PT1H
X-Robots-Tag:noindex
X-PUBLISHED-TTL:PT1H
BEGIN:VTIMEZONE
TZID:Asia/Jerusalem
BEGIN:DAYLIGHT
TZOFFSETFROM:+0200
TZOFFSETTO:+0300
TZNAME:IDT
DTSTART:20210326T000000
END:DAYLIGHT
BEGIN:STANDARD
TZOFFSETFROM:+0300
TZOFFSETTO:+0200
TZNAME:IST
DTSTART:20211030T230000
END:STANDARD
BEGIN:DAYLIGHT
TZOFFSETFROM:+0200
TZOFFSETTO:+0300
TZNAME:IDT
DTSTART:20220325T000000
END:DAYLIGHT
BEGIN:STANDARD
TZOFFSETFROM:+0300
TZOFFSETTO:+0200
TZNAME:IST
DTSTART:20221029T230000
END:STANDARD
BEGIN:DAYLIGHT
TZOFFSETFROM:+0200
TZOFFSETTO:+0300
TZNAME:IDT
DTSTART:20230324T000000
END:DAYLIGHT
BEGIN:STANDARD
TZOFFSETFROM:+0300
TZOFFSETTO:+0200
TZNAME:IST
DTSTART:20231028T230000
END:STANDARD
END:VTIMEZONE
BEGIN:VEVENT
DTSTART;TZID=Asia/Jerusalem:20221204T201500
DTEND;TZID=Asia/Jerusalem:20221204T210000
DTSTAMP:20260425T060241
CREATED:20221201T141413Z
LAST-MODIFIED:20221201T141413Z
UID:26911-1670184900-1670187600@ahavasshalom.org
SUMMARY:Growth Through the Parsha - Shiur for Ladies #3
DESCRIPTION:A new shiur for ladies\nWith Rav Zachariash\nSunday Dec 4\n20:15-21:00\nin the shul hall
URL:https://ahavasshalom.org/event/growth-through-the-parsha-shiur-for-ladies-3/
LOCATION:Shul Hall
ATTACH;FMTTYPE=image/jpeg:https://ahavasshalom.org/wp-content/uploads/Growth-Through-the-Parsha-Banner.jpg
END:VEVENT
END:VCALENDAR