BEGIN:VCALENDAR
VERSION:2.0
PRODID:-//Beis Medrash Ahavas Shalom - ECPv6.15.20//NONSGML v1.0//EN
CALSCALE:GREGORIAN
METHOD:PUBLISH
X-WR-CALNAME:Beis Medrash Ahavas Shalom
X-ORIGINAL-URL:https://ahavasshalom.org
X-WR-CALDESC:Events for Beis Medrash Ahavas Shalom
REFRESH-INTERVAL;VALUE=DURATION:PT1H
X-Robots-Tag:noindex
X-PUBLISHED-TTL:PT1H
BEGIN:VTIMEZONE
TZID:Asia/Jerusalem
BEGIN:DAYLIGHT
TZOFFSETFROM:+0200
TZOFFSETTO:+0300
TZNAME:IDT
DTSTART:20220325T000000
END:DAYLIGHT
BEGIN:STANDARD
TZOFFSETFROM:+0300
TZOFFSETTO:+0200
TZNAME:IST
DTSTART:20221029T230000
END:STANDARD
BEGIN:DAYLIGHT
TZOFFSETFROM:+0200
TZOFFSETTO:+0300
TZNAME:IDT
DTSTART:20230324T000000
END:DAYLIGHT
BEGIN:STANDARD
TZOFFSETFROM:+0300
TZOFFSETTO:+0200
TZNAME:IST
DTSTART:20231028T230000
END:STANDARD
BEGIN:DAYLIGHT
TZOFFSETFROM:+0200
TZOFFSETTO:+0300
TZNAME:IDT
DTSTART:20240329T000000
END:DAYLIGHT
BEGIN:STANDARD
TZOFFSETFROM:+0300
TZOFFSETTO:+0200
TZNAME:IST
DTSTART:20241026T230000
END:STANDARD
END:VTIMEZONE
BEGIN:VEVENT
DTSTART;TZID=Asia/Jerusalem:20231203T201500
DTEND;TZID=Asia/Jerusalem:20231203T201500
DTSTAMP:20260424T021109
CREATED:20231129T175636Z
LAST-MODIFIED:20231129T175738Z
UID:29482-1701634500-1701634500@ahavasshalom.org
SUMMARY:Pre-Chanukah Shiur - Soup and Schmooze 2023
DESCRIPTION:The Ahavas Shalom Neshei invites you to a\nPRE-CHANUKAH Shiur With Rav Zachariash \nFollowed by Soup ‘N Schmooze \nSunday Dec 3\n20:15-22:00\nin the shul hall \nTO OFFER REFRESHMENTS\, CALL SHULI HARRIS: 058.329.5812
URL:https://ahavasshalom.org/event/pre-chanukah-shiur-soup-and-schmooze-2023/
LOCATION:Shul Hall
ATTACH;FMTTYPE=image/jpeg:https://ahavasshalom.org/wp-content/uploads/Pre-Chanukah-2023-Shiur-Soup-scaled.jpg
END:VEVENT
END:VCALENDAR