BEGIN:VCALENDAR
VERSION:2.0
PRODID:-//Beis Medrash Ahavas Shalom - ECPv6.15.20//NONSGML v1.0//EN
CALSCALE:GREGORIAN
METHOD:PUBLISH
X-WR-CALNAME:Beis Medrash Ahavas Shalom
X-ORIGINAL-URL:https://ahavasshalom.org
X-WR-CALDESC:Events for Beis Medrash Ahavas Shalom
REFRESH-INTERVAL;VALUE=DURATION:PT1H
X-Robots-Tag:noindex
X-PUBLISHED-TTL:PT1H
BEGIN:VTIMEZONE
TZID:Asia/Jerusalem
BEGIN:DAYLIGHT
TZOFFSETFROM:+0200
TZOFFSETTO:+0300
TZNAME:IDT
DTSTART:20230324T000000
END:DAYLIGHT
BEGIN:STANDARD
TZOFFSETFROM:+0300
TZOFFSETTO:+0200
TZNAME:IST
DTSTART:20231028T230000
END:STANDARD
BEGIN:DAYLIGHT
TZOFFSETFROM:+0200
TZOFFSETTO:+0300
TZNAME:IDT
DTSTART:20240329T000000
END:DAYLIGHT
BEGIN:STANDARD
TZOFFSETFROM:+0300
TZOFFSETTO:+0200
TZNAME:IST
DTSTART:20241026T230000
END:STANDARD
BEGIN:DAYLIGHT
TZOFFSETFROM:+0200
TZOFFSETTO:+0300
TZNAME:IDT
DTSTART:20250328T000000
END:DAYLIGHT
BEGIN:STANDARD
TZOFFSETFROM:+0300
TZOFFSETTO:+0200
TZNAME:IST
DTSTART:20251025T230000
END:STANDARD
END:VTIMEZONE
BEGIN:VEVENT
DTSTART;TZID=Asia/Jerusalem:20241214T203000
DTEND;TZID=Asia/Jerusalem:20241214T220000
DTSTAMP:20260421T012614
CREATED:20241212T093021Z
LAST-MODIFIED:20241212T093021Z
UID:31736-1734208200-1734213600@ahavasshalom.org
SUMMARY:Women's Pre-Chanukah Melaveh Malkah
DESCRIPTION:
URL:https://ahavasshalom.org/event/womens-pre-chanukah-melaveh-malkah/
LOCATION:Shul Hall
ATTACH;FMTTYPE=image/jpeg:https://ahavasshalom.org/wp-content/uploads/melava-malka-2024-12-14.jpg
END:VEVENT
END:VCALENDAR