BEGIN:VCALENDAR
VERSION:2.0
PRODID:-//Beis Medrash Ahavas Shalom - ECPv6.15.20//NONSGML v1.0//EN
CALSCALE:GREGORIAN
METHOD:PUBLISH
X-WR-CALNAME:Beis Medrash Ahavas Shalom
X-ORIGINAL-URL:https://ahavasshalom.org
X-WR-CALDESC:Events for Beis Medrash Ahavas Shalom
REFRESH-INTERVAL;VALUE=DURATION:PT1H
X-Robots-Tag:noindex
X-PUBLISHED-TTL:PT1H
BEGIN:VTIMEZONE
TZID:Asia/Jerusalem
BEGIN:DAYLIGHT
TZOFFSETFROM:+0200
TZOFFSETTO:+0300
TZNAME:IDT
DTSTART:20240329T000000
END:DAYLIGHT
BEGIN:STANDARD
TZOFFSETFROM:+0300
TZOFFSETTO:+0200
TZNAME:IST
DTSTART:20241026T230000
END:STANDARD
BEGIN:DAYLIGHT
TZOFFSETFROM:+0200
TZOFFSETTO:+0300
TZNAME:IDT
DTSTART:20250328T000000
END:DAYLIGHT
BEGIN:STANDARD
TZOFFSETFROM:+0300
TZOFFSETTO:+0200
TZNAME:IST
DTSTART:20251025T230000
END:STANDARD
BEGIN:DAYLIGHT
TZOFFSETFROM:+0200
TZOFFSETTO:+0300
TZNAME:IDT
DTSTART:20260327T000000
END:DAYLIGHT
BEGIN:STANDARD
TZOFFSETFROM:+0300
TZOFFSETTO:+0200
TZNAME:IST
DTSTART:20261024T230000
END:STANDARD
BEGIN:DAYLIGHT
TZOFFSETFROM:+0200
TZOFFSETTO:+0300
TZNAME:IDT
DTSTART:20270326T000000
END:DAYLIGHT
BEGIN:STANDARD
TZOFFSETFROM:+0300
TZOFFSETTO:+0200
TZNAME:IST
DTSTART:20271030T230000
END:STANDARD
END:VTIMEZONE
BEGIN:VEVENT
DTSTART;TZID=Asia/Jerusalem:20251216T183000
DTEND;TZID=Asia/Jerusalem:20251216T201500
DTSTAMP:20260420T021613
CREATED:20251210T213218Z
LAST-MODIFIED:20251210T213218Z
UID:33618-1765909800-1765916100@ahavasshalom.org
SUMMARY:Chanukah Extravaganza 2025
DESCRIPTION:
URL:https://ahavasshalom.org/event/chanukah-extravaganza-2025/
LOCATION:Shul Hall
ATTACH;FMTTYPE=image/jpeg:https://ahavasshalom.org/wp-content/uploads/5786-Chanukah-Kids-Activity-scaled.jpg
END:VEVENT
BEGIN:VEVENT
DTSTART;TZID=Asia/Jerusalem:20260422T101500
DTEND;TZID=Asia/Jerusalem:20260422T130000
DTSTAMP:20260420T021613
CREATED:20260416T084850Z
LAST-MODIFIED:20260416T084850Z
UID:34706-1776852900-1776862800@ahavasshalom.org
SUMMARY:Yom Iyun 5786
DESCRIPTION:
URL:https://ahavasshalom.org/event/yom-iyun-5786/
LOCATION:Main Beis Medrash
ATTACH;FMTTYPE=image/jpeg:https://ahavasshalom.org/wp-content/uploads/Yom-Iyun-2026-1.jpg
END:VEVENT
END:VCALENDAR