BEGIN:VCALENDAR
VERSION:2.0
PRODID:-//Beis Medrash Ahavas Shalom - ECPv6.15.20//NONSGML v1.0//EN
CALSCALE:GREGORIAN
METHOD:PUBLISH
X-WR-CALNAME:Beis Medrash Ahavas Shalom
X-ORIGINAL-URL:https://ahavasshalom.org
X-WR-CALDESC:Events for Beis Medrash Ahavas Shalom
REFRESH-INTERVAL;VALUE=DURATION:PT1H
X-Robots-Tag:noindex
X-PUBLISHED-TTL:PT1H
BEGIN:VTIMEZONE
TZID:Asia/Jerusalem
BEGIN:DAYLIGHT
TZOFFSETFROM:+0200
TZOFFSETTO:+0300
TZNAME:IDT
DTSTART:20160325T000000
END:DAYLIGHT
BEGIN:STANDARD
TZOFFSETFROM:+0300
TZOFFSETTO:+0200
TZNAME:IST
DTSTART:20161029T230000
END:STANDARD
BEGIN:DAYLIGHT
TZOFFSETFROM:+0200
TZOFFSETTO:+0300
TZNAME:IDT
DTSTART:20170324T000000
END:DAYLIGHT
BEGIN:STANDARD
TZOFFSETFROM:+0300
TZOFFSETTO:+0200
TZNAME:IST
DTSTART:20171028T230000
END:STANDARD
BEGIN:DAYLIGHT
TZOFFSETFROM:+0200
TZOFFSETTO:+0300
TZNAME:IDT
DTSTART:20180323T000000
END:DAYLIGHT
BEGIN:STANDARD
TZOFFSETFROM:+0300
TZOFFSETTO:+0200
TZNAME:IST
DTSTART:20181027T230000
END:STANDARD
BEGIN:DAYLIGHT
TZOFFSETFROM:+0200
TZOFFSETTO:+0300
TZNAME:IDT
DTSTART:20190329T000000
END:DAYLIGHT
BEGIN:STANDARD
TZOFFSETFROM:+0300
TZOFFSETTO:+0200
TZNAME:IST
DTSTART:20191026T230000
END:STANDARD
BEGIN:DAYLIGHT
TZOFFSETFROM:+0200
TZOFFSETTO:+0300
TZNAME:IDT
DTSTART:20200327T000000
END:DAYLIGHT
BEGIN:STANDARD
TZOFFSETFROM:+0300
TZOFFSETTO:+0200
TZNAME:IST
DTSTART:20201024T230000
END:STANDARD
BEGIN:DAYLIGHT
TZOFFSETFROM:+0200
TZOFFSETTO:+0300
TZNAME:IDT
DTSTART:20210326T000000
END:DAYLIGHT
BEGIN:STANDARD
TZOFFSETFROM:+0300
TZOFFSETTO:+0200
TZNAME:IST
DTSTART:20211030T230000
END:STANDARD
BEGIN:DAYLIGHT
TZOFFSETFROM:+0200
TZOFFSETTO:+0300
TZNAME:IDT
DTSTART:20220325T000000
END:DAYLIGHT
BEGIN:STANDARD
TZOFFSETFROM:+0300
TZOFFSETTO:+0200
TZNAME:IST
DTSTART:20221029T230000
END:STANDARD
BEGIN:DAYLIGHT
TZOFFSETFROM:+0200
TZOFFSETTO:+0300
TZNAME:IDT
DTSTART:20230324T000000
END:DAYLIGHT
BEGIN:STANDARD
TZOFFSETFROM:+0300
TZOFFSETTO:+0200
TZNAME:IST
DTSTART:20231028T230000
END:STANDARD
BEGIN:DAYLIGHT
TZOFFSETFROM:+0200
TZOFFSETTO:+0300
TZNAME:IDT
DTSTART:20240329T000000
END:DAYLIGHT
BEGIN:STANDARD
TZOFFSETFROM:+0300
TZOFFSETTO:+0200
TZNAME:IST
DTSTART:20241026T230000
END:STANDARD
END:VTIMEZONE
BEGIN:VEVENT
DTSTART;TZID=Asia/Jerusalem:20231022T201500
DTEND;TZID=Asia/Jerusalem:20231022T210000
DTSTAMP:20260420T053319
CREATED:20231019T084043Z
LAST-MODIFIED:20231019T084043Z
UID:29137-1698005700-1698008400@ahavasshalom.org
SUMMARY:Growth Through the Parsha - Shiur for Ladies 2023-10-22
DESCRIPTION:A shiur for ladies\nWith Rav Zachariash\nSunday Oct 22\, 2023\n20:15-21:00\nin the shul hall \nListen to past women’s shiurim
URL:https://ahavasshalom.org/event/growth-through-the-parsha-shiur-for-ladies-2023-10-22/
LOCATION:Shul Hall
ATTACH;FMTTYPE=image/jpeg:https://ahavasshalom.org/wp-content/uploads/GTTP-2023-10-22.jpg
END:VEVENT
BEGIN:VEVENT
DTSTART;TZID=Asia/Jerusalem:20230902T210000
DTEND;TZID=Asia/Jerusalem:20230902T230000
DTSTAMP:20260420T053319
CREATED:20230824T090546Z
LAST-MODIFIED:20230824T090546Z
UID:28851-1693688400-1693695600@ahavasshalom.org
SUMMARY:Women's Melaveh Malkah 2-Sep-2023
DESCRIPTION:
URL:https://ahavasshalom.org/event/womens-melaveh-malkah-2-sep-2023/
LOCATION:Shul Hall
ATTACH;FMTTYPE=image/jpeg:https://ahavasshalom.org/wp-content/uploads/Rosh-Hashanah-Shiur-2023.jpg
END:VEVENT
BEGIN:VEVENT
DTSTART;TZID=Asia/Jerusalem:20230520T103000
DTEND;TZID=Asia/Jerusalem:20230520T113000
DTSTAMP:20260420T053319
CREATED:20230516T111710Z
LAST-MODIFIED:20230518T085541Z
UID:28492-1684578600-1684582200@ahavasshalom.org
SUMMARY:Pre-Shavuos Women's Kiddush
DESCRIPTION:We need volunteers to prepare cheesecake and other dishes for the Kiddush. \nCan you help? If so\, please contact shuli@ahavasshalom.org
URL:https://ahavasshalom.org/event/pre-shavuos-womens-kiddush/
LOCATION:Hollander Residence\, 40 Nachal Lachish #13\, Ramat Beit Shemesh\, Israel
ATTACH;FMTTYPE=image/jpeg:https://ahavasshalom.org/wp-content/uploads/shavous-flyer-WEB.jpg
END:VEVENT
BEGIN:VEVENT
DTSTART;TZID=Asia/Jerusalem:20230508T201500
DTEND;TZID=Asia/Jerusalem:20230508T230000
DTSTAMP:20260420T053319
CREATED:20230426T161845Z
LAST-MODIFIED:20230426T162124Z
UID:28317-1683576900-1683586800@ahavasshalom.org
SUMMARY:Lag B'Omer in the Park 2023
DESCRIPTION:
URL:https://ahavasshalom.org/event/lag-bomer-in-the-park-2023/
LOCATION:Ayalon Park\, PX7W+92 Bet Shemesh\, Israel
ATTACH;FMTTYPE=image/jpeg:https://ahavasshalom.org/wp-content/uploads/lag-bomer-ad-2023-edited-scaled.jpg
END:VEVENT
BEGIN:VEVENT
DTSTART;TZID=Asia/Jerusalem:20230426T101500
DTEND;TZID=Asia/Jerusalem:20230426T130000
DTSTAMP:20260420T053319
CREATED:20230420T082325Z
LAST-MODIFIED:20230425T193135Z
UID:28275-1682504100-1682514000@ahavasshalom.org
SUMMARY:Yom Iyun 5783
DESCRIPTION:Download the PDF Poster
URL:https://ahavasshalom.org/event/yom-iyun-5783/
LOCATION:Main Beis Medrash
ATTACH;FMTTYPE=image/jpeg:https://ahavasshalom.org/wp-content/uploads/Yom_Iyun-5783-scaled.jpg
END:VEVENT
BEGIN:VEVENT
DTSTART;TZID=Asia/Jerusalem:20230312T201500
DTEND;TZID=Asia/Jerusalem:20230312T210000
DTSTAMP:20260420T053319
CREATED:20230305T124945Z
LAST-MODIFIED:20230305T124945Z
UID:27837-1678652100-1678654800@ahavasshalom.org
SUMMARY:Growth Through the Parsha - Shiur for Ladies #11
DESCRIPTION:A shiur for ladies\nWith Rav Zachariash\nSunday Jan 29\, 2023\n20:15-21:00\nin the shul hall \nListen to past women’s shiurim
URL:https://ahavasshalom.org/event/growth-through-the-parsha-shiur-for-ladies-11/
LOCATION:Shul Hall
ATTACH;FMTTYPE=image/jpeg:https://ahavasshalom.org/wp-content/uploads/Growth-Through-the-Parsha-Banner.jpg
END:VEVENT
BEGIN:VEVENT
DTSTART;TZID=Asia/Jerusalem:20230218T203000
DTEND;TZID=Asia/Jerusalem:20230218T230000
DTSTAMP:20260420T053319
CREATED:20230119T102804Z
LAST-MODIFIED:20230119T102858Z
UID:27354-1676752200-1676761200@ahavasshalom.org
SUMMARY:Melaveh Malkah 2023
DESCRIPTION:
URL:https://ahavasshalom.org/event/mm2023/
LOCATION:Kehillat Ahavat Tzion\, Nachal Timna St 2\, Bet Shemesh\, Israel
ATTACH;FMTTYPE=image/jpeg:https://ahavasshalom.org/wp-content/uploads/melava-malka-AS_print.jpg
END:VEVENT
BEGIN:VEVENT
DTSTART;TZID=Asia/Jerusalem:20230204T202500
DTEND;TZID=Asia/Jerusalem:20230204T230000
DTSTAMP:20260420T053319
CREATED:20230126T103713Z
LAST-MODIFIED:20230130T145341Z
UID:27424-1675542300-1675551600@ahavasshalom.org
SUMMARY:Trip to Kever Rochel
DESCRIPTION:Cost: Approximately 40nis per person
URL:https://ahavasshalom.org/event/trip-to-kever-rochel/
LOCATION:Kever Rochel\, קבר רחל\, מתחם\, Bethlehem\, Israel
ATTACH;FMTTYPE=image/jpeg:https://ahavasshalom.org/wp-content/uploads/kever-rochel-trip-2023-02-04-scaled.jpg
END:VEVENT
BEGIN:VEVENT
DTSTART;TZID=Asia/Jerusalem:20230129T201500
DTEND;TZID=Asia/Jerusalem:20230129T210000
DTSTAMP:20260420T053319
CREATED:20230125T175022Z
LAST-MODIFIED:20230125T175022Z
UID:27417-1675023300-1675026000@ahavasshalom.org
SUMMARY:Growth Through the Parsha - Shiur for Ladies #8
DESCRIPTION:A shiur for ladies\nWith Rav Zachariash\nSunday Jan 29\, 2023\n20:15-21:00\nin the shul hall \nListen to past women’s shiurim
URL:https://ahavasshalom.org/event/growth-through-the-parsha-shiur-for-ladies-8/
LOCATION:Shul Hall
ATTACH;FMTTYPE=image/jpeg:https://ahavasshalom.org/wp-content/uploads/Growth-Through-the-Parsha-Banner.jpg
END:VEVENT
BEGIN:VEVENT
DTSTART;TZID=Asia/Jerusalem:20230101T201500
DTEND;TZID=Asia/Jerusalem:20230101T210000
DTSTAMP:20260420T053319
CREATED:20221230T070910Z
LAST-MODIFIED:20221230T070958Z
UID:27146-1672604100-1672606800@ahavasshalom.org
SUMMARY:Growth Through the Parsha - Shiur for Ladies #5
DESCRIPTION:A shiur for ladies\nWith Rav Zachariash\nSunday Jan 1\, 2023\n20:15-21:00\nin the shul hall \nListen to past women’s shiurim
URL:https://ahavasshalom.org/event/growth-through-the-parsha-shiur-for-ladies-5/
LOCATION:Shul Hall
ATTACH;FMTTYPE=image/jpeg:https://ahavasshalom.org/wp-content/uploads/Growth-Through-the-Parsha-Banner.jpg
END:VEVENT
BEGIN:VEVENT
DTSTART;TZID=Asia/Jerusalem:20221225T183000
DTEND;TZID=Asia/Jerusalem:20221225T203000
DTSTAMP:20260420T053319
CREATED:20221214T205521Z
LAST-MODIFIED:20221214T205534Z
UID:27013-1671993000-1672000200@ahavasshalom.org
SUMMARY:Chanukah Extravaganza 2022
DESCRIPTION:
URL:https://ahavasshalom.org/event/chanukah-extravaganza-2022/
LOCATION:Shul Hall
ATTACH;FMTTYPE=image/jpeg:https://ahavasshalom.org/wp-content/uploads/Chanukah-5783.jpg
END:VEVENT
BEGIN:VEVENT
DTSTART;TZID=Asia/Jerusalem:20221211T201500
DTEND;TZID=Asia/Jerusalem:20221211T210000
DTSTAMP:20260420T053319
CREATED:20221205T205110Z
LAST-MODIFIED:20221205T205110Z
UID:26960-1670789700-1670792400@ahavasshalom.org
SUMMARY:Growth Through the Parsha - Shiur for Ladies #4
DESCRIPTION:A shiur for ladies\nThis week’s topic: CHANUKAH\nWith Rav Zachariash\nSunday Dec 11\n20:15-21:00\nin the shul hall
URL:https://ahavasshalom.org/event/growth-through-the-parsha-shiur-for-ladies-4/
LOCATION:Shul Hall
ATTACH;FMTTYPE=image/jpeg:https://ahavasshalom.org/wp-content/uploads/Growth-Through-the-Parsha-Banner.jpg
END:VEVENT
BEGIN:VEVENT
DTSTART;TZID=Asia/Jerusalem:20221204T201500
DTEND;TZID=Asia/Jerusalem:20221204T210000
DTSTAMP:20260420T053319
CREATED:20221201T141413Z
LAST-MODIFIED:20221201T141413Z
UID:26911-1670184900-1670187600@ahavasshalom.org
SUMMARY:Growth Through the Parsha - Shiur for Ladies #3
DESCRIPTION:A new shiur for ladies\nWith Rav Zachariash\nSunday Dec 4\n20:15-21:00\nin the shul hall
URL:https://ahavasshalom.org/event/growth-through-the-parsha-shiur-for-ladies-3/
LOCATION:Shul Hall
ATTACH;FMTTYPE=image/jpeg:https://ahavasshalom.org/wp-content/uploads/Growth-Through-the-Parsha-Banner.jpg
END:VEVENT
BEGIN:VEVENT
DTSTART;TZID=Asia/Jerusalem:20221127T201500
DTEND;TZID=Asia/Jerusalem:20221127T210000
DTSTAMP:20260420T053319
CREATED:20221121T095526Z
LAST-MODIFIED:20221121T095526Z
UID:26793-1669580100-1669582800@ahavasshalom.org
SUMMARY:Growth Through the Parsha - Shiur for Ladies #2
DESCRIPTION:A new shiur for ladies\nWith Rav Zachariash\nSunday Nov 27\n20:15-21:00\nin the shul hall
URL:https://ahavasshalom.org/event/growth-through-the-parsha-shiur-for-ladies-2/
LOCATION:Shul Hall
ATTACH;FMTTYPE=image/jpeg:https://ahavasshalom.org/wp-content/uploads/Growth-Through-the-Parsha-Banner.jpg
END:VEVENT
BEGIN:VEVENT
DTSTART;TZID=Asia/Jerusalem:20221124T200000
DTEND;TZID=Asia/Jerusalem:20221124T235900
DTSTAMP:20260420T053319
CREATED:20221121T093432Z
LAST-MODIFIED:20221121T093432Z
UID:26792-1669320000-1669334340@ahavasshalom.org
SUMMARY:Mishmar Night - November 24\, 2022
DESCRIPTION:Join us for learning in the Beis Medrash followed by a seuda in the hall\, with kumzitz until late… \nThis MISHMAR is SPONSORED by the LASKER FAMILY \non the Yahrzeit of Hananiah’s mother\nLeah Chaya Bas Dovid O”H\nand will include a Siyum on Meseches Kesuvos \nAnd also sponsored by\nMEIR HOLUBER\nIn honor of his last Shabbos at Ahavas Shalom.
URL:https://ahavasshalom.org/event/2022-11-24-mishmar/
LOCATION:Shul Hall
ATTACH;FMTTYPE=image/jpeg:https://ahavasshalom.org/wp-content/uploads/Mishmar-2022-11-24.jpg
END:VEVENT
BEGIN:VEVENT
DTSTART;TZID=Asia/Jerusalem:20221120T201500
DTEND;TZID=Asia/Jerusalem:20221120T210000
DTSTAMP:20260420T053319
CREATED:20221106T124827Z
LAST-MODIFIED:20221106T125452Z
UID:26704-1668975300-1668978000@ahavasshalom.org
SUMMARY:Growth Through the Parsha - Shiur for Ladies
DESCRIPTION:A new shiur for ladies\nWith Rav Zachariash\nSunday Nov 20\n20:15-21:00\nin the shul hall
URL:https://ahavasshalom.org/event/growth-through-the-parsha-ladies/
LOCATION:Shul Hall
ATTACH;FMTTYPE=image/jpeg:https://ahavasshalom.org/wp-content/uploads/Growth-through-the-Parsha.jpg
END:VEVENT
BEGIN:VEVENT
DTSTART;TZID=Asia/Jerusalem:20221002T203000
DTEND;TZID=Asia/Jerusalem:20221002T210000
DTSTAMP:20260420T053319
CREATED:20220929T110617Z
LAST-MODIFIED:20220929T110617Z
UID:26497-1664742600-1664744400@ahavasshalom.org
SUMMARY:Getting the MOST from Yom Kippur
DESCRIPTION:This Sunday at 20:30 \nRav Zachariash will help\nYOU get the\nMOST \nout of Yom Kippur \n  \nSunday 20:30 to 21:00 in the Hall \nFrom the Spiritual to the Technical-and everything in between \nFOR WOMEN ONLY
URL:https://ahavasshalom.org/event/getting-the-most-from-yom-kippur/
LOCATION:Shul Hall
ATTACH;FMTTYPE=image/jpeg:https://ahavasshalom.org/wp-content/uploads/5783_Pre-YomKippur-scaled.jpg
END:VEVENT
BEGIN:VEVENT
DTSTART;TZID=Asia/Jerusalem:20220915T201500
DTEND;TZID=Asia/Jerusalem:20220915T235900
DTSTAMP:20260420T053319
CREATED:20220909T135954Z
LAST-MODIFIED:20220913T120133Z
UID:26406-1663272900-1663286340@ahavasshalom.org
SUMMARY:Mishmar Night
DESCRIPTION:Join us for learning in the Beis Medrash followed by a seuda in the hall.\, with kumzitz until late… \nThis Mishmar Is Sponsored By Peretz Dissen for the Continued Hatzlacha for the Family and the Entire Community!
URL:https://ahavasshalom.org/event/mishmar-night/
LOCATION:Shul Hall
END:VEVENT
BEGIN:VEVENT
DTSTART;TZID=Asia/Jerusalem:20220910T210000
DTEND;TZID=Asia/Jerusalem:20220910T230000
DTSTAMP:20260420T053319
CREATED:20220901T093254Z
LAST-MODIFIED:20220905T200946Z
UID:26376-1662843600-1662850800@ahavasshalom.org
SUMMARY:Women's Melaveh Malkah 10-Sep-2022
DESCRIPTION:
URL:https://ahavasshalom.org/event/womens-melaveh-malkah-10-sep-2022/
LOCATION:Shul Hall
ATTACH;FMTTYPE=image/jpeg:https://ahavasshalom.org/wp-content/uploads/Melaveh-Malkah-10-Sep-2022-scaled.jpg
END:VEVENT
BEGIN:VEVENT
DTSTART;TZID=Asia/Jerusalem:20220630T200000
DTEND;TZID=Asia/Jerusalem:20220630T230000
DTSTAMP:20260420T053319
CREATED:20220221T101854Z
LAST-MODIFIED:20220630T161515Z
UID:25251-1656619200-1656630000@ahavasshalom.org
SUMMARY:Men's Mishmar
DESCRIPTION:Sponsored by Shimon Young In memory of his mother\nDevorah Marsha bas Reuven\non the occasion of the first Yahrzeit
URL:https://ahavasshalom.org/event/mens-mishmar-2022-06-30/
LOCATION:Main Beis Medrash
ATTACH;FMTTYPE=image/jpeg:https://ahavasshalom.org/wp-content/uploads/Mishmar-2022-06-30-scaled.jpg
END:VEVENT
BEGIN:VEVENT
DTSTART;TZID=Asia/Jerusalem:20220519T200000
DTEND;TZID=Asia/Jerusalem:20220519T220000
DTSTAMP:20260420T053319
CREATED:20220221T101144Z
LAST-MODIFIED:20220512T084123Z
UID:25247-1652990400-1652997600@ahavasshalom.org
SUMMARY:Lag B'Omer in the Park
DESCRIPTION:
URL:https://ahavasshalom.org/event/lag-bomer-in-the-park/
LOCATION:Ayalon Park\, PX7W+92 Bet Shemesh\, Israel
ATTACH;FMTTYPE=image/jpeg:https://ahavasshalom.org/wp-content/uploads/5782-Lag-BOmer-scaled.jpg
END:VEVENT
BEGIN:VEVENT
DTSTART;TZID=Asia/Jerusalem:20220505T090000
DTEND;TZID=Asia/Jerusalem:20220505T130000
DTSTAMP:20260420T053319
CREATED:20220221T095458Z
LAST-MODIFIED:20220428T111250Z
UID:25241-1651741200-1651755600@ahavasshalom.org
SUMMARY:Yom Iyun 5782
DESCRIPTION:
URL:https://ahavasshalom.org/event/yom-iyun-5782/
LOCATION:Main Beis Medrash
ATTACH;FMTTYPE=image/jpeg:https://ahavasshalom.org/wp-content/uploads/Yom-Iyun-Image.jpg
END:VEVENT
BEGIN:VEVENT
DTSTART;TZID=Asia/Jerusalem:20220411T160000
DTEND;TZID=Asia/Jerusalem:20220411T170000
DTSTAMP:20260420T053319
CREATED:20220221T095237Z
LAST-MODIFIED:20220331T081343Z
UID:25237-1649692800-1649696400@ahavasshalom.org
SUMMARY:Matzah Bake
DESCRIPTION:
URL:https://ahavasshalom.org/event/matzah-bake/
LOCATION:Matzot Chaburot Beit Shemesh\, QX5V+MW Bet Shemesh\, Israel\, Israel
ATTACH;FMTTYPE=image/jpeg:https://ahavasshalom.org/wp-content/uploads/AhavasShalom_MatzaBaking_19.jpg
END:VEVENT
BEGIN:VEVENT
DTSTART;TZID=Asia/Jerusalem:20220402T210000
DTEND;TZID=Asia/Jerusalem:20220402T220000
DTSTAMP:20260420T053319
CREATED:20220221T092950Z
LAST-MODIFIED:20220331T082622Z
UID:25230-1648933200-1648936800@ahavasshalom.org
SUMMARY:Women's Pre-Pesach Shiur with the Rav & Rebbetzin
DESCRIPTION:
URL:https://ahavasshalom.org/event/womens-pre-pesach-shiur-with-the-rav-rebbetzin/
LOCATION:Shul Hall
ATTACH;FMTTYPE=image/jpeg:https://ahavasshalom.org/wp-content/uploads/pesach-shiur-2022.jpg
END:VEVENT
BEGIN:VEVENT
DTSTART;TZID=Asia/Jerusalem:20220316T210000
DTEND;TZID=Asia/Jerusalem:20220316T230000
DTSTAMP:20260420T053319
CREATED:20220221T093133Z
LAST-MODIFIED:20220221T101620Z
UID:25233-1647464400-1647471600@ahavasshalom.org
SUMMARY:Chagigah with the Kehilla
DESCRIPTION:
URL:https://ahavasshalom.org/event/chagigah-with-the-kehilla/
LOCATION:Main Beis Medrash
END:VEVENT
BEGIN:VEVENT
DTSTART;TZID=Asia/Jerusalem:20220305T103000
DTEND;TZID=Asia/Jerusalem:20220305T113000
DTSTAMP:20260420T053319
CREATED:20220221T092459Z
LAST-MODIFIED:20220222T144452Z
UID:25227-1646476200-1646479800@ahavasshalom.org
SUMMARY:Women's Pre-Purim Kiddush
DESCRIPTION:
URL:https://ahavasshalom.org/event/womens-pre-purim-kiddush/
LOCATION:Hollander Residence\, 40 Nachal Lachish #13\, Ramat Beit Shemesh\, Israel
ATTACH;FMTTYPE=image/jpeg:https://ahavasshalom.org/wp-content/uploads/Chocolate-Desert-Cup.jpg
END:VEVENT
BEGIN:VEVENT
DTSTART;TZID=Asia/Jerusalem:20220303T200000
DTEND;TZID=Asia/Jerusalem:20220303T230000
DTSTAMP:20260420T053319
CREATED:20220221T072639Z
LAST-MODIFIED:20220221T101554Z
UID:25224-1646337600-1646348400@ahavasshalom.org
SUMMARY:Men's Mishmar
DESCRIPTION:
URL:https://ahavasshalom.org/event/mens-mishmar/
END:VEVENT
BEGIN:VEVENT
DTSTART;TZID=Asia/Jerusalem:20180224T080000
DTEND;TZID=Asia/Jerusalem:20180224T170000
DTSTAMP:20260420T053319
CREATED:20170724T182857Z
LAST-MODIFIED:20170724T184008Z
UID:3557-1519459200-1519491600@ahavasshalom.org
SUMMARY:Boruch Moshe Mendlovitz Bar Mitzavh
DESCRIPTION:
URL:https://ahavasshalom.org/event/boruch-moshe-mendlovitz/
LOCATION:Main Beis Medrash
END:VEVENT
BEGIN:VEVENT
DTSTART;TZID=Asia/Jerusalem:20180120T080000
DTEND;TZID=Asia/Jerusalem:20180120T170000
DTSTAMP:20260420T053319
CREATED:20170724T181248Z
LAST-MODIFIED:20170724T181248Z
UID:3547-1516435200-1516467600@ahavasshalom.org
SUMMARY:Elisha Seltzer's Bar Mitzvah
DESCRIPTION:
URL:https://ahavasshalom.org/event/elisha-seltzers-bar-mitzvah/
LOCATION:Main Beis Medrash
END:VEVENT
BEGIN:VEVENT
DTSTART;TZID=Asia/Jerusalem:20171223T080000
DTEND;TZID=Asia/Jerusalem:20171223T170000
DTSTAMP:20260420T053319
CREATED:20170724T182734Z
LAST-MODIFIED:20170724T182734Z
UID:3555-1514016000-1514048400@ahavasshalom.org
SUMMARY:Elyashiv Yehuda Kushner
DESCRIPTION:
URL:https://ahavasshalom.org/event/elyashiv-yehuda-kushner/
LOCATION:Main Beis Medrash
END:VEVENT
END:VCALENDAR