BEGIN:VCALENDAR
VERSION:2.0
PRODID:-//Beis Medrash Ahavas Shalom - ECPv6.15.20//NONSGML v1.0//EN
CALSCALE:GREGORIAN
METHOD:PUBLISH
X-WR-CALNAME:Beis Medrash Ahavas Shalom
X-ORIGINAL-URL:https://ahavasshalom.org
X-WR-CALDESC:Events for Beis Medrash Ahavas Shalom
REFRESH-INTERVAL;VALUE=DURATION:PT1H
X-Robots-Tag:noindex
X-PUBLISHED-TTL:PT1H
BEGIN:VTIMEZONE
TZID:Asia/Jerusalem
BEGIN:DAYLIGHT
TZOFFSETFROM:+0200
TZOFFSETTO:+0300
TZNAME:IDT
DTSTART:20160325T000000
END:DAYLIGHT
BEGIN:STANDARD
TZOFFSETFROM:+0300
TZOFFSETTO:+0200
TZNAME:IST
DTSTART:20161029T230000
END:STANDARD
BEGIN:DAYLIGHT
TZOFFSETFROM:+0200
TZOFFSETTO:+0300
TZNAME:IDT
DTSTART:20170324T000000
END:DAYLIGHT
BEGIN:STANDARD
TZOFFSETFROM:+0300
TZOFFSETTO:+0200
TZNAME:IST
DTSTART:20171028T230000
END:STANDARD
BEGIN:DAYLIGHT
TZOFFSETFROM:+0200
TZOFFSETTO:+0300
TZNAME:IDT
DTSTART:20180323T000000
END:DAYLIGHT
BEGIN:STANDARD
TZOFFSETFROM:+0300
TZOFFSETTO:+0200
TZNAME:IST
DTSTART:20181027T230000
END:STANDARD
END:VTIMEZONE
BEGIN:VEVENT
DTSTART;TZID=Asia/Jerusalem:20171223T080000
DTEND;TZID=Asia/Jerusalem:20171223T170000
DTSTAMP:20260420T080617
CREATED:20170724T182734Z
LAST-MODIFIED:20170724T182734Z
UID:3555-1514016000-1514048400@ahavasshalom.org
SUMMARY:Elyashiv Yehuda Kushner
DESCRIPTION:
URL:https://ahavasshalom.org/event/elyashiv-yehuda-kushner/
LOCATION:Main Beis Medrash
END:VEVENT
BEGIN:VEVENT
DTSTART;TZID=Asia/Jerusalem:20171111T080000
DTEND;TZID=Asia/Jerusalem:20171111T170000
DTSTAMP:20260420T080617
CREATED:20170724T182630Z
LAST-MODIFIED:20170724T182630Z
UID:3552-1510387200-1510419600@ahavasshalom.org
SUMMARY:Avraham Kahan-Frankl Bar Mitzvah
DESCRIPTION:
URL:https://ahavasshalom.org/event/avraham-kahan-frankl-bar-mitzvah/
LOCATION:Main Beis Medrash
END:VEVENT
BEGIN:VEVENT
DTSTART;TZID=Asia/Jerusalem:20171028T080000
DTEND;TZID=Asia/Jerusalem:20171028T170000
DTSTAMP:20260420T080617
CREATED:20170724T180705Z
LAST-MODIFIED:20220909T135422Z
UID:3545-1509177600-1509210000@ahavasshalom.org
SUMMARY:Yonah Dissen Auf Ruf Kiddush
DESCRIPTION:
URL:https://ahavasshalom.org/event/yonah-dissen-auf-ruf-kiddush/
LOCATION:Main Beis Medrash
END:VEVENT
BEGIN:VEVENT
DTSTART;TZID=Asia/Jerusalem:20171007T080000
DTEND;TZID=Asia/Jerusalem:20171007T170000
DTSTAMP:20260420T080617
CREATED:20170724T181522Z
LAST-MODIFIED:20220909T135445Z
UID:3549-1507363200-1507395600@ahavasshalom.org
SUMMARY:Shapiro Bar Mitzvah
DESCRIPTION:
URL:https://ahavasshalom.org/event/shapiro-bar-mitzvah/
LOCATION:Main Beis Medrash
END:VEVENT
END:VCALENDAR